BEGIN:VCALENDAR
VERSION:2.0
PRODID:-//Nob Hill Neighborhood Association - ECPv5.1.6//NONSGML v1.0//EN
CALSCALE:GREGORIAN
METHOD:PUBLISH
X-WR-CALNAME:Nob Hill Neighborhood Association
X-ORIGINAL-URL:https://www.nobhill-nm.com
X-WR-CALDESC:Events for Nob Hill Neighborhood Association
BEGIN:VTIMEZONE
TZID:America/Denver
BEGIN:DAYLIGHT
TZOFFSETFROM:-0700
TZOFFSETTO:-0600
TZNAME:MDT
DTSTART:20260308T090000
END:DAYLIGHT
BEGIN:STANDARD
TZOFFSETFROM:-0600
TZOFFSETTO:-0700
TZNAME:MST
DTSTART:20261101T080000
END:STANDARD
END:VTIMEZONE
BEGIN:VEVENT
DTSTART;TZID=America/Denver:20260516T130000
DTEND;TZID=America/Denver:20260516T150000
DTSTAMP:20260420T141047
CREATED:20260406T161305Z
LAST-MODIFIED:20260406T161308Z
UID:4528-1778936400-1778943600@www.nobhill-nm.com
SUMMARY:16th Annual Nob Hill Architectural Walk
DESCRIPTION:
URL:https://www.nobhill-nm.com/event/16th-annual-nob-hill-architectural-walk/
LOCATION:To Be Anounced
END:VEVENT
END:VCALENDAR