BEGIN:VCALENDAR
VERSION:2.0
PRODID:-//Nob Hill Neighborhood Association - ECPv5.1.6//NONSGML v1.0//EN
CALSCALE:GREGORIAN
METHOD:PUBLISH
X-WR-CALNAME:Nob Hill Neighborhood Association
X-ORIGINAL-URL:https://www.nobhill-nm.com
X-WR-CALDESC:Events for Nob Hill Neighborhood Association
BEGIN:VTIMEZONE
TZID:America/Denver
BEGIN:DAYLIGHT
TZOFFSETFROM:-0700
TZOFFSETTO:-0600
TZNAME:MDT
DTSTART:20260308T090000
END:DAYLIGHT
BEGIN:STANDARD
TZOFFSETFROM:-0600
TZOFFSETTO:-0700
TZNAME:MST
DTSTART:20261101T080000
END:STANDARD
END:VTIMEZONE
BEGIN:VEVENT
DTSTART;TZID=America/Denver:20260619T120000
DTEND;TZID=America/Denver:20260619T140000
DTSTAMP:20260420T161046
CREATED:20260406T163342Z
LAST-MODIFIED:20260406T163344Z
UID:4541-1781870400-1781877600@www.nobhill-nm.com
SUMMARY:5th Annual Viewing\, 1953 Tony Edaakie Murals
DESCRIPTION:
URL:https://www.nobhill-nm.com/event/5th-annual-viewing-1953-tony-edaakie-murals/
LOCATION:deAnza Motor Lodge\, 4301 Central Ave NE\, 4301 Central Ave NE
END:VEVENT
END:VCALENDAR