BEGIN:VCALENDAR
VERSION:2.0
PRODID:-//Nob Hill Neighborhood Association - ECPv5.1.6//NONSGML v1.0//EN
CALSCALE:GREGORIAN
METHOD:PUBLISH
X-WR-CALNAME:Nob Hill Neighborhood Association
X-ORIGINAL-URL:https://www.nobhill-nm.com
X-WR-CALDESC:Events for Nob Hill Neighborhood Association
BEGIN:VTIMEZONE
TZID:America/Denver
BEGIN:DAYLIGHT
TZOFFSETFROM:-0700
TZOFFSETTO:-0600
TZNAME:MDT
DTSTART:20260308T090000
END:DAYLIGHT
BEGIN:STANDARD
TZOFFSETFROM:-0600
TZOFFSETTO:-0700
TZNAME:MST
DTSTART:20261101T080000
END:STANDARD
END:VTIMEZONE
BEGIN:VEVENT
DTSTART;TZID=America/Denver:20260505T183000
DTEND;TZID=America/Denver:20260505T203000
DTSTAMP:20260420T121702
CREATED:20260406T161009Z
LAST-MODIFIED:20260406T163511Z
UID:4526-1778005800-1778013000@www.nobhill-nm.com
SUMMARY:Monthly association meeting
DESCRIPTION:All are welcome to discuss opportunities and problems here in Nob Hill. \nIf you would like to offer an item for the agenda\, just email theboard@nobhill-nm.com \n \n  \n 
URL:https://www.nobhill-nm.com/event/monthly-association-meeting/
LOCATION:Monte Vista Christian Church\, 3501 Campus Blvd NE\, Albuquerque\, NM\, 87106\, United States
END:VEVENT
END:VCALENDAR