BEGIN:VCALENDAR
VERSION:2.0
PRODID:-//Nob Hill Neighborhood Association - ECPv5.1.6//NONSGML v1.0//EN
CALSCALE:GREGORIAN
METHOD:PUBLISH
X-WR-CALNAME:Nob Hill Neighborhood Association
X-ORIGINAL-URL:https://www.nobhill-nm.com
X-WR-CALDESC:Events for Nob Hill Neighborhood Association
BEGIN:VTIMEZONE
TZID:America/Denver
BEGIN:DAYLIGHT
TZOFFSETFROM:-0700
TZOFFSETTO:-0600
TZNAME:MDT
DTSTART:20200308T090000
END:DAYLIGHT
BEGIN:STANDARD
TZOFFSETFROM:-0600
TZOFFSETTO:-0700
TZNAME:MST
DTSTART:20201101T080000
END:STANDARD
END:VTIMEZONE
BEGIN:VEVENT
DTSTART;TZID=America/Denver:20200903T183000
DTEND;TZID=America/Denver:20200903T203000
DTSTAMP:20260420T071511
CREATED:20200828T180811Z
LAST-MODIFIED:20200828T180811Z
UID:2271-1599157800-1599165000@www.nobhill-nm.com
SUMMARY:Monthly Meeting\, Nob Hill Board of Directors
DESCRIPTION:All are welcome. Come and go as your schedule permits. \nLet your voice be heard. Neighbor input is the first item on the agenda. \nZoom invitation will go to email list at www.NobHill-NM.com a day or two ahead. \nDraft Agenda 2020-09-03
URL:https://www.nobhill-nm.com/event/monthly-meeting-nob-hill-board-of-directors/
LOCATION:Zoom
END:VEVENT
END:VCALENDAR