BEGIN:VCALENDAR
VERSION:2.0
PRODID:-//Nob Hill Neighborhood Association - ECPv5.1.6//NONSGML v1.0//EN
CALSCALE:GREGORIAN
METHOD:PUBLISH
X-WR-CALNAME:Nob Hill Neighborhood Association
X-ORIGINAL-URL:https://www.nobhill-nm.com
X-WR-CALDESC:Events for Nob Hill Neighborhood Association
BEGIN:VTIMEZONE
TZID:America/Denver
BEGIN:DAYLIGHT
TZOFFSETFROM:-0700
TZOFFSETTO:-0600
TZNAME:MDT
DTSTART:20200308T090000
END:DAYLIGHT
BEGIN:STANDARD
TZOFFSETFROM:-0600
TZOFFSETTO:-0700
TZNAME:MST
DTSTART:20201101T080000
END:STANDARD
END:VTIMEZONE
BEGIN:VEVENT
DTSTART;TZID=America/Denver:20200304T183000
DTEND;TZID=America/Denver:20200304T210000
DTSTAMP:20260420T200908
CREATED:20200212T222251Z
LAST-MODIFIED:20200302T212418Z
UID:2071-1583346600-1583355600@www.nobhill-nm.com
SUMMARY:Monthly Nob Hill Neighborhood Association Board Meeting
DESCRIPTION:Wednesday night\, March 4\, See agenda for time and place. \nAll are welcome. Drop in or out as your schedule permits. \nAgenda 2020-03-04
URL:https://www.nobhill-nm.com/event/monthly-nob-hill-neighborhood-association-board-meeting-3/
LOCATION:Monte Vista Christian Church\, 3501 Campus Blvd NE\, Albuquerque\, NM\, 87106\, United States
END:VEVENT
END:VCALENDAR