BEGIN:VCALENDAR
VERSION:2.0
PRODID:-//Nob Hill Neighborhood Association - ECPv5.1.6//NONSGML v1.0//EN
CALSCALE:GREGORIAN
METHOD:PUBLISH
X-WR-CALNAME:Nob Hill Neighborhood Association
X-ORIGINAL-URL:https://www.nobhill-nm.com
X-WR-CALDESC:Events for Nob Hill Neighborhood Association
BEGIN:VTIMEZONE
TZID:America/Denver
BEGIN:DAYLIGHT
TZOFFSETFROM:-0700
TZOFFSETTO:-0600
TZNAME:MDT
DTSTART:20200308T090000
END:DAYLIGHT
BEGIN:STANDARD
TZOFFSETFROM:-0600
TZOFFSETTO:-0700
TZNAME:MST
DTSTART:20201101T080000
END:STANDARD
END:VTIMEZONE
BEGIN:VEVENT
DTSTART;TZID=America/Denver:20200708T183000
DTEND;TZID=America/Denver:20200708T203000
DTSTAMP:20260420T104448
CREATED:20200705T200653Z
LAST-MODIFIED:20200709T003746Z
UID:2247-1594233000-1594240200@www.nobhill-nm.com
SUMMARY:Neighborhood Association Board of directors\, open to the public
DESCRIPTION:6:30 pm\, by Zoom\, look for agenda Monday\, July 6. \nPlease note the change in ID & Password! \nJoin Zoom Meeting\nhttps://us02web.zoom.us/j/86177008333?pwd=a1Zta2MrNWE2dFdjdDJLL05Gdzh3UT09 \nMeeting ID: 861 7700 8333\nPassword: 096835\nOne tap mobile\n+16699006833\,\,86177008333#\,\,\,\,0#\,\,096835# US (San Jose)\n+12532158782\,\,86177008333#\,\,\,\,0#\,\,096835# US (Tacoma) \nDial by your location\n+1 669 900 6833 US (San Jose)\n+1 253 215 8782 US (Tacoma)\n+1 346 248 7799 US (Houston)\n+1 929 205 6099 US (New York)\n+1 301 715 8592 US (Germantown)\n+1 312 626 6799 US (Chicago)\nMeeting ID: 861 7700 8333\nPassword: 096835\nFind your local number: https://us02web.zoom.us/u/keBcxWZFDx
URL:https://www.nobhill-nm.com/event/neighborhood-association-board-of-directors-open-to-the-public/
LOCATION:Zoom
END:VEVENT
END:VCALENDAR