BEGIN:VCALENDAR
VERSION:2.0
PRODID:-//Nob Hill Neighborhood Association - ECPv5.1.6//NONSGML v1.0//EN
CALSCALE:GREGORIAN
METHOD:PUBLISH
X-WR-CALNAME:Nob Hill Neighborhood Association
X-ORIGINAL-URL:https://www.nobhill-nm.com
X-WR-CALDESC:Events for Nob Hill Neighborhood Association
BEGIN:VTIMEZONE
TZID:America/Denver
BEGIN:DAYLIGHT
TZOFFSETFROM:-0700
TZOFFSETTO:-0600
TZNAME:MDT
DTSTART:20200308T090000
END:DAYLIGHT
BEGIN:STANDARD
TZOFFSETFROM:-0600
TZOFFSETTO:-0700
TZNAME:MST
DTSTART:20201101T080000
END:STANDARD
END:VTIMEZONE
BEGIN:VEVENT
DTSTART;TZID=America/Denver:20200225T183000
DTEND;TZID=America/Denver:20200225T183000
DTSTAMP:20260420T214409
CREATED:20200220T174250Z
LAST-MODIFIED:20200220T174250Z
UID:2093-1582655400-1582655400@www.nobhill-nm.com
SUMMARY:Neighborhood Position Meeting on Santana Project
DESCRIPTION:On February 25\, 2020 we will be hosting a meeting to discuss the Nob Hill Neighborhood Associations stated position on the Santana project. There will be a vote by active Nob Hill Neighborhood Association members as to what the official position of the Neighborhood Association is.
URL:https://www.nobhill-nm.com/event/neighborhood-position-meeting-on-santana-project/
LOCATION:Monte Vista Christian Church\, 3501 Campus Blvd NE\, Albuquerque\, NM\, 87106\, United States
END:VEVENT
END:VCALENDAR