BEGIN:VCALENDAR
VERSION:2.0
PRODID:-//Nob Hill Neighborhood Association - ECPv5.1.6//NONSGML v1.0//EN
CALSCALE:GREGORIAN
METHOD:PUBLISH
X-WR-CALNAME:Nob Hill Neighborhood Association
X-ORIGINAL-URL:https://www.nobhill-nm.com
X-WR-CALDESC:Events for Nob Hill Neighborhood Association
BEGIN:VTIMEZONE
TZID:America/Denver
BEGIN:DAYLIGHT
TZOFFSETFROM:-0700
TZOFFSETTO:-0600
TZNAME:MDT
DTSTART:20200308T090000
END:DAYLIGHT
BEGIN:STANDARD
TZOFFSETFROM:-0600
TZOFFSETTO:-0700
TZNAME:MST
DTSTART:20201101T080000
END:STANDARD
END:VTIMEZONE
BEGIN:VEVENT
DTSTART;TZID=America/Denver:20200603T183000
DTEND;TZID=America/Denver:20200603T203000
DTSTAMP:20260420T124129
CREATED:20200601T185748Z
LAST-MODIFIED:20200601T190912Z
UID:2218-1591209000-1591216200@www.nobhill-nm.com
SUMMARY:Nob Hill Neighborhood Meeting June 3\, 2020
DESCRIPTION:Friends and Neighbors\,\nAll are welcome to Wednesday night’s meeting\, 6:30 pm\, by Zoom. Agenda 2020-06-03\nIf you have ideas or questions  email us or feel free to drop in and out of the meeting.\nWill provide URL for Zoom on Wednesday.
URL:https://www.nobhill-nm.com/event/nob-hill-neighborhood-meeting-june-3/
LOCATION:Zoom
END:VEVENT
END:VCALENDAR