BEGIN:VCALENDAR
VERSION:2.0
PRODID:-//Nob Hill Neighborhood Association - ECPv5.1.6//NONSGML v1.0//EN
CALSCALE:GREGORIAN
METHOD:PUBLISH
X-WR-CALNAME:Nob Hill Neighborhood Association
X-ORIGINAL-URL:https://www.nobhill-nm.com
X-WR-CALDESC:Events for Nob Hill Neighborhood Association
BEGIN:VTIMEZONE
TZID:America/Denver
BEGIN:DAYLIGHT
TZOFFSETFROM:-0700
TZOFFSETTO:-0600
TZNAME:MDT
DTSTART:20200308T090000
END:DAYLIGHT
BEGIN:STANDARD
TZOFFSETFROM:-0600
TZOFFSETTO:-0700
TZNAME:MST
DTSTART:20201101T080000
END:STANDARD
END:VTIMEZONE
BEGIN:VEVENT
DTSTART;TZID=America/Denver:20200311T174500
DTEND;TZID=America/Denver:20200311T174500
DTSTAMP:20260420T181728
CREATED:20200310T144700Z
LAST-MODIFIED:20200310T144700Z
UID:2111-1583948700-1583948700@www.nobhill-nm.com
SUMMARY:Nob Hill Neighborhood Quality of Life Committee Meeting
DESCRIPTION:Meeting is open to all neighbors who would like to participate in this committee. Pat Davis will join us at our meeting to give us some options for the street lighting as well as the crosswalks. \nChair: David Garcia\, Board Member
URL:https://www.nobhill-nm.com/event/nob-hill-neighborhood-quality-of-life-committee-meeting/
LOCATION:Flying Star Nob Hill\, 3416 Central Ave SE\, Albuquerque\, 87106\, United States
END:VEVENT
END:VCALENDAR